BEGIN:VCALENDAR
VERSION:2.0
PRODID:-//https://calenda-formation.labocleo.org
X-WR-CALNAME:Calenda
X-WR-TIMEZONE:Europe/Paris
CALSCALE:GREGORIAN
X-WR-CALDESC:The calendar for arts, humanities and social sciences
METHOD:PUBLISH
BEGIN:VEVENT
DTSTART;VALUE=DATE:20141107
DTEND;VALUE=DATE:20141108
UID:292323-20141107@calenda.revues.org
SUMMARY:Surprise for learning
URL:https://calenda-formation.labocleo.org/292323
DESCRIPTION:D’une certaine façon\, c’est lorsqu’on s’étonne que l’on commence à se former. Processus par lequel le monde apparaît soudain étrange\, déroutant ou inadapté\, l’étonnement incite à rechercher d’autres manières de penser\, d’agir et d’envisager ce que l’… @plus_info https://calenda-formation.labocleo.org/292323
LOCATION:Paris
END:VEVENT
END:VCALENDAR
