BEGIN:VCALENDAR
VERSION:2.0
PRODID:-//https://calenda-formation.labocleo.org
X-WR-CALNAME:Calenda
X-WR-TIMEZONE:Europe/Paris
CALSCALE:GREGORIAN
X-WR-CALDESC:The calendar for arts, humanities and social sciences
METHOD:PUBLISH
BEGIN:VEVENT
DTSTART;VALUE=DATE:20140904
DTEND;VALUE=DATE:20140905
UID:292412-20140904@calenda.revues.org
SUMMARY:Doctoral contracts in "The humanties and social sciences\, epidemology\, public health and cancer"
URL:https://calenda-formation.labocleo.org/292412
DESCRIPTION:Pour la quatrième année\, l'Institut national du cancer (INCa)\, en partenariat avec l’Ecole des hautes études en sciences sociales (EHESS) ainsi que l’Ecole des hautes études en santé publique (EHESP) et le réseau doctoral en santé publique animé par … @plus_info https://calenda-formation.labocleo.org/292412
LOCATION:
END:VEVENT
END:VCALENDAR
