BEGIN:VCALENDAR
VERSION:2.0
PRODID:-//https://calenda-formation.labocleo.org
X-WR-CALNAME:Calenda
X-WR-TIMEZONE:Europe/Paris
CALSCALE:GREGORIAN
X-WR-CALDESC:Le calendrier des lettres et sciences humaines et sociales
METHOD:PUBLISH
BEGIN:VEVENT
DTSTART;VALUE=DATE:20140708
DTEND;VALUE=DATE:20140709
UID:292473-20140708@calenda.revues.org
SUMMARY:Qu’est-ce que la ville intelligente ? 
URL:https://calenda-formation.labocleo.org/292473
DESCRIPTION:Ce cycle de séminaires\, structuré autour de cinq séances et de plusieurs tables rondes qui se dérouleront de juillet 2014 à décembre 2014\, fait suite à deux initiatives antérieures : la publication d’une cartographie des acteurs de la ville intellige… @plus_info https://calenda-formation.labocleo.org/292473
LOCATION:La Defense
END:VEVENT
BEGIN:VEVENT
DTSTART;VALUE=DATE:20140912
DTEND;VALUE=DATE:20140913
UID:292473-20140912@calenda.revues.org
SUMMARY:Qu’est-ce que la ville intelligente ? 
URL:https://calenda-formation.labocleo.org/292473
DESCRIPTION:Ce cycle de séminaires\, structuré autour de cinq séances et de plusieurs tables rondes qui se dérouleront de juillet 2014 à décembre 2014\, fait suite à deux initiatives antérieures : la publication d’une cartographie des acteurs de la ville intellige… @plus_info https://calenda-formation.labocleo.org/292473
LOCATION:La Defense
END:VEVENT
BEGIN:VEVENT
DTSTART;VALUE=DATE:20141003
DTEND;VALUE=DATE:20141004
UID:292473-20141003@calenda.revues.org
SUMMARY:Qu’est-ce que la ville intelligente ? 
URL:https://calenda-formation.labocleo.org/292473
DESCRIPTION:Ce cycle de séminaires\, structuré autour de cinq séances et de plusieurs tables rondes qui se dérouleront de juillet 2014 à décembre 2014\, fait suite à deux initiatives antérieures : la publication d’une cartographie des acteurs de la ville intellige… @plus_info https://calenda-formation.labocleo.org/292473
LOCATION:La Defense
END:VEVENT
BEGIN:VEVENT
DTSTART;VALUE=DATE:20141104
DTEND;VALUE=DATE:20141105
UID:292473-20141104@calenda.revues.org
SUMMARY:Qu’est-ce que la ville intelligente ? 
URL:https://calenda-formation.labocleo.org/292473
DESCRIPTION:Ce cycle de séminaires\, structuré autour de cinq séances et de plusieurs tables rondes qui se dérouleront de juillet 2014 à décembre 2014\, fait suite à deux initiatives antérieures : la publication d’une cartographie des acteurs de la ville intellige… @plus_info https://calenda-formation.labocleo.org/292473
LOCATION:La Defense
END:VEVENT
BEGIN:VEVENT
DTSTART;VALUE=DATE:20141205
DTEND;VALUE=DATE:20141206
UID:292473-20141205@calenda.revues.org
SUMMARY:Qu’est-ce que la ville intelligente ? 
URL:https://calenda-formation.labocleo.org/292473
DESCRIPTION:Ce cycle de séminaires\, structuré autour de cinq séances et de plusieurs tables rondes qui se dérouleront de juillet 2014 à décembre 2014\, fait suite à deux initiatives antérieures : la publication d’une cartographie des acteurs de la ville intellige… @plus_info https://calenda-formation.labocleo.org/292473
LOCATION:La Defense
END:VEVENT
END:VCALENDAR
