BEGIN:VCALENDAR
VERSION:2.0
PRODID:-//https://calenda-formation.labocleo.org
X-WR-CALNAME:Calenda
X-WR-TIMEZONE:Europe/Paris
CALSCALE:GREGORIAN
X-WR-CALDESC:The calendar for arts, humanities and social sciences
METHOD:PUBLISH
BEGIN:VEVENT
DTSTART;VALUE=DATE:20140620
DTEND;VALUE=DATE:20140621
UID:292680-20140620@calenda.revues.org
SUMMARY:Numérique et sciences humaines : un changement d’époque pour les humanités ?
URL:https://calenda-formation.labocleo.org/292680
DESCRIPTION:Ce séminaire fait écho à la master class des 18 et 19 juin portant sur « méthodologie de la recherche et culture numérique »\, organisée par l'Institut français du Liban en partenariat avec l'Agence universitaire de la francophonie\, l'université Paris… @plus_info https://calenda-formation.labocleo.org/292680
LOCATION:Beirut
END:VEVENT
END:VCALENDAR
