BEGIN:VCALENDAR
VERSION:2.0
PRODID:-//https://calenda-formation.labocleo.org
X-WR-CALNAME:Calenda
X-WR-TIMEZONE:Europe/Paris
CALSCALE:GREGORIAN
X-WR-CALDESC:The calendar for arts, humanities and social sciences
METHOD:PUBLISH
BEGIN:VEVENT
DTSTART;VALUE=DATE:20140930
DTEND;VALUE=DATE:20141001
UID:292852-20140930@calenda.revues.org
SUMMARY:North/South conference of automedication and its determination
URL:https://calenda-formation.labocleo.org/292852
DESCRIPTION:« Les rencontres Nord / Sud de l'automédication et de ses déterminants » sont organisées à l'initiative des projets de recherche « Globalmed » de l’European Research Council (ERC) et « Automed » de l'Agence nationale de la recherche (ANR)\, implantés … @plus_info https://calenda-formation.labocleo.org/292852
LOCATION:Cotonou
END:VEVENT
END:VCALENDAR
