BEGIN:VCALENDAR
VERSION:2.0
PRODID:-//https://calenda-formation.labocleo.org
X-WR-CALNAME:Calenda
X-WR-TIMEZONE:Europe/Paris
CALSCALE:GREGORIAN
X-WR-CALDESC:O calendário de letras e de ciências sociais e humanas
METHOD:PUBLISH
BEGIN:VEVENT
DTSTART;VALUE=DATE:20140626
DTEND;VALUE=DATE:20140627
UID:293015-20140626@calenda.revues.org
SUMMARY:Écrire l'histoire des Provinces-Unies
URL:https://calenda-formation.labocleo.org/293015
DESCRIPTION:Longtemps les Provinces-Unies ont été un espace géo-historique relativement délaissé par les historiens français. À la suite de quelques passeurs ayant montré la voie\, il semble qu'un certain renouveau soit à l'oeuvre\, animé par des chercheurs des de… @plus_info https://calenda-formation.labocleo.org/293015
LOCATION:Cergy-Pontoise
END:VEVENT
END:VCALENDAR
