BEGIN:VCALENDAR
VERSION:2.0
PRODID:-//https://calenda-formation.labocleo.org
X-WR-CALNAME:Calenda
X-WR-TIMEZONE:Europe/Paris
CALSCALE:GREGORIAN
X-WR-CALDESC:The calendar for arts, humanities and social sciences
METHOD:PUBLISH
BEGIN:VEVENT
DTSTART;VALUE=DATE:20140901
DTEND;VALUE=DATE:20140902
UID:293380-20140901@calenda.revues.org
SUMMARY:Displacement\, Transgression and Dissent
URL:https://calenda-formation.labocleo.org/293380
DESCRIPTION:This young researchers' conference sets out to examine norms and transgessions in 17th- and 18th-century France\, Great Britain and early America\, in relation to issues such as knowledge and science\, religious dissent and political radicalism\, the ont… @plus_info https://calenda-formation.labocleo.org/293380
LOCATION:Aix-en-Provence
END:VEVENT
END:VCALENDAR
