BEGIN:VCALENDAR
VERSION:2.0
PRODID:-//https://calenda-formation.labocleo.org
X-WR-CALNAME:Calenda
X-WR-TIMEZONE:Europe/Paris
CALSCALE:GREGORIAN
X-WR-CALDESC:The calendar for arts, humanities and social sciences
METHOD:PUBLISH
BEGIN:VEVENT
DTSTART;VALUE=DATE:20140915
DTEND;VALUE=DATE:20140916
UID:294577-20140915@calenda.revues.org
SUMMARY:Le paysage spectacle. La Suisse au regard du tourisme (1750-2015)
URL:https://calenda-formation.labocleo.org/294577
DESCRIPTION:Le paysage construit le « pays »\, ce territoire naturel\, urbain\, rural et social. Ce dernier est le produit d’un processus d’artialisation\, notamment par le truchement du regard que les artistes portent sur leur environnement biophysique et humain\, e… @plus_info https://calenda-formation.labocleo.org/294577
LOCATION:
END:VEVENT
END:VCALENDAR
