BEGIN:VCALENDAR
VERSION:2.0
PRODID:-//https://calenda-formation.labocleo.org
X-WR-CALNAME:Calenda
X-WR-TIMEZONE:Europe/Paris
CALSCALE:GREGORIAN
X-WR-CALDESC:Le calendrier des lettres et sciences humaines et sociales
METHOD:PUBLISH
BEGIN:VEVENT
DTSTART;VALUE=DATE:20141231
DTEND;VALUE=DATE:20150101
UID:295273-20141231@calenda.revues.org
SUMMARY:Droit & travail
URL:https://calenda-formation.labocleo.org/295273
DESCRIPTION:En France\, l’année 2012 a vu la célébration du trentième anniversaire des lois Auroux. Au moment de leur adoption\, on a pu croire que ces lois allaient garantir aux salariés de meilleurs droits ainsi qu’une plus grande capacité d’intervention dans la… @plus_info https://calenda-formation.labocleo.org/295273
LOCATION:
END:VEVENT
END:VCALENDAR
