BEGIN:VCALENDAR
VERSION:2.0
PRODID:-//https://calenda-formation.labocleo.org
X-WR-CALNAME:Calenda
X-WR-TIMEZONE:Europe/Paris
CALSCALE:GREGORIAN
X-WR-CALDESC:Le calendrier des lettres et sciences humaines et sociales
METHOD:PUBLISH
BEGIN:VEVENT
DTSTART;VALUE=DATE:20140921
DTEND;VALUE=DATE:20140922
UID:295353-20140921@calenda.revues.org
SUMMARY:Bevölkerungsvielfalt und Mechanismen der Identifizierung
URL:https://calenda-formation.labocleo.org/295353
DESCRIPTION:Aspirant à réunir de « jeunes » chercheurs français et allemands\, ce colloque se propose de questionner la notion controversée de « diversité ethnico-culturelle »\, linguistique ou confessionnelle exprimée dans et à travers le football en tant qu’acti… Weitere Informationen https://calenda-formation.labocleo.org/295353
LOCATION:Straßburg
END:VEVENT
END:VCALENDAR
