BEGIN:VCALENDAR
VERSION:2.0
PRODID:-//https://calenda-formation.labocleo.org
X-WR-CALNAME:Calenda
X-WR-TIMEZONE:Europe/Paris
CALSCALE:GREGORIAN
X-WR-CALDESC:O calendário de letras e de ciências sociais e humanas
METHOD:PUBLISH
BEGIN:VEVENT
DTSTART;VALUE=DATE:20140815
DTEND;VALUE=DATE:20140816
UID:295722-20140815@calenda.revues.org
SUMMARY:Bourse sur la déhospitalisation psychiatrique au Québec et en Ontario 
URL:https://calenda-formation.labocleo.org/295722
DESCRIPTION:Grâce au financement des Instituts de recherche en santé du Canada (IRSC\, 2013-2016) et la Chaire de recherche sur la francophonie canadienne en santé\, notre équipe de recherche entend participer à une lecture pancanadienne de l’histoire de la santé … @plus_info https://calenda-formation.labocleo.org/295722
LOCATION:Ottawa
END:VEVENT
END:VCALENDAR
