BEGIN:VCALENDAR
VERSION:2.0
PRODID:-//https://calenda-formation.labocleo.org
X-WR-CALNAME:Calenda
X-WR-TIMEZONE:Europe/Paris
CALSCALE:GREGORIAN
X-WR-CALDESC:Le calendrier des lettres et sciences humaines et sociales
METHOD:PUBLISH
BEGIN:VEVENT
DTSTART;VALUE=DATE:20140918
DTEND;VALUE=DATE:20140919
UID:295778-20140918@calenda.revues.org
SUMMARY:Familles à distance\, familles à temps partiel Nord / Sud
URL:https://calenda-formation.labocleo.org/295778
DESCRIPTION:Familles et territoires\, fonctionnement de l’entourage familial au-delà du ménage\, multi-résidence sont\, grâce à de nouvelles sources de données\, des thématiques dont l’analyse peut aujourd’hui être revisitée. Les « familles transnationales » (dont l… Weitere Informationen https://calenda-formation.labocleo.org/295778
LOCATION:Paris
END:VEVENT
END:VCALENDAR
