BEGIN:VCALENDAR
VERSION:2.0
PRODID:-//https://calenda-formation.labocleo.org
X-WR-CALNAME:Calenda
X-WR-TIMEZONE:Europe/Paris
CALSCALE:GREGORIAN
X-WR-CALDESC:O calendário de letras e de ciências sociais e humanas
METHOD:PUBLISH
BEGIN:VEVENT
DTSTART;VALUE=DATE:20141031
DTEND;VALUE=DATE:20141101
UID:296958-20141031@calenda.revues.org
SUMMARY:Rire et religions
URL:https://calenda-formation.labocleo.org/296958
DESCRIPTION:Organisé cette année en partenariat avec l’institut européen Emmanuel Levinas\, le prochain colloque annuel de l’AFSR portera sur « Rire et religion ». Dans une perspective résolument interdisciplinaire\, nous souhaitons voir traitées notamment les que… @plus_info https://calenda-formation.labocleo.org/296958
LOCATION:Paris
END:VEVENT
END:VCALENDAR
