BEGIN:VCALENDAR
VERSION:2.0
PRODID:-//https://calenda-formation.labocleo.org
X-WR-CALNAME:Calenda
X-WR-TIMEZONE:Europe/Paris
CALSCALE:GREGORIAN
X-WR-CALDESC:The calendar for arts, humanities and social sciences
METHOD:PUBLISH
BEGIN:VEVENT
DTSTART;VALUE=DATE:20140922
DTEND;VALUE=DATE:20140923
UID:297327-20140922@calenda.revues.org
SUMMARY:The eleventh centenary of Aghtamar: politics\, art and spirituality in the kingdom of Vaspurakan
URL:https://calenda-formation.labocleo.org/297327
DESCRIPTION:En 915\, le roi Gaguik Artzruni commençait de construire l’église Sainte-Croix d’Aght’amar\, qui fut achevée en 921. Sur cette île du lac de Van\, où il établissait la capitale du Vaspourakan\, royaume reconnu par les Arabes en 908\, il érigeait un sanctu… @plus_info https://calenda-formation.labocleo.org/297327
LOCATION:Paris
END:VEVENT
BEGIN:VEVENT
DTSTART;VALUE=DATE:20140923
DTEND;VALUE=DATE:20140924
UID:297327-20140923@calenda.revues.org
SUMMARY:The eleventh centenary of Aghtamar: politics\, art and spirituality in the kingdom of Vaspurakan
URL:https://calenda-formation.labocleo.org/297327
DESCRIPTION:En 915\, le roi Gaguik Artzruni commençait de construire l’église Sainte-Croix d’Aght’amar\, qui fut achevée en 921. Sur cette île du lac de Van\, où il établissait la capitale du Vaspourakan\, royaume reconnu par les Arabes en 908\, il érigeait un sanctu… @plus_info https://calenda-formation.labocleo.org/297327
LOCATION:Paris
END:VEVENT
END:VCALENDAR
