BEGIN:VCALENDAR
VERSION:2.0
PRODID:-//https://calenda-formation.labocleo.org
X-WR-CALNAME:Calenda
X-WR-TIMEZONE:Europe/Paris
CALSCALE:GREGORIAN
X-WR-CALDESC:The calendar for arts, humanities and social sciences
METHOD:PUBLISH
BEGIN:VEVENT
DTSTART;VALUE=DATE:20140918
DTEND;VALUE=DATE:20140919
UID:298219-20140918@calenda.revues.org
SUMMARY:La francesistica italiana in the digital age
URL:https://calenda-formation.labocleo.org/298219
DESCRIPTION:Ce colloque a pour objectif de mobiliser les moyens de valorisation\, de pérennisation et de mutualisation des savoirs qu'offre le champ du numérique\, afin de constituer une communauté de pratiques valables pour les disciplines couvertes par le domain… @plus_info https://calenda-formation.labocleo.org/298219
LOCATION:Genoa
END:VEVENT
BEGIN:VEVENT
DTSTART;VALUE=DATE:20140819
DTEND;VALUE=DATE:20140820
UID:298219-20140819@calenda.revues.org
SUMMARY:La francesistica italiana in the digital age
URL:https://calenda-formation.labocleo.org/298219
DESCRIPTION:Ce colloque a pour objectif de mobiliser les moyens de valorisation\, de pérennisation et de mutualisation des savoirs qu'offre le champ du numérique\, afin de constituer une communauté de pratiques valables pour les disciplines couvertes par le domain… @plus_info https://calenda-formation.labocleo.org/298219
LOCATION:Genoa
END:VEVENT
END:VCALENDAR
