BEGIN:VCALENDAR
VERSION:2.0
PRODID:-//https://calenda-formation.labocleo.org
X-WR-CALNAME:Calenda
X-WR-TIMEZONE:Europe/Paris
CALSCALE:GREGORIAN
X-WR-CALDESC:O calendário de letras e de ciências sociais e humanas
METHOD:PUBLISH
BEGIN:VEVENT
DTSTART;VALUE=DATE:20141001
DTEND;VALUE=DATE:20141002
UID:299375-20141001@calenda.revues.org
SUMMARY:Économie sociale et solidaire dans un contexte de multiculturalité\, diversité et développement territorial
URL:https://calenda-formation.labocleo.org/299375
DESCRIPTION:L'objectif de ce colloque international est de favoriser la comparaison internationale de travaux théoriques et de recherches interdisciplinaires sur le rôle des initiatives d'économie sociale et solidaire joué dans les récentes conceptions du dévelo… @plus_info https://calenda-formation.labocleo.org/299375
LOCATION:Mendoza
END:VEVENT
END:VCALENDAR
