BEGIN:VCALENDAR
VERSION:2.0
PRODID:-//https://calenda-formation.labocleo.org
X-WR-CALNAME:Calenda
X-WR-TIMEZONE:Europe/Paris
CALSCALE:GREGORIAN
X-WR-CALDESC:Le calendrier des lettres et sciences humaines et sociales
METHOD:PUBLISH
BEGIN:VEVENT
DTSTART;VALUE=DATE:20141010
DTEND;VALUE=DATE:20141011
UID:299779-20141010@calenda.revues.org
SUMMARY:Manuscrit francophone
URL:https://calenda-formation.labocleo.org/299779
DESCRIPTION: L’approche génétique d’un texte à partir de l'analyse de ses manuscrits conduit à faire avancer\, à partir de données objectives\, la réflexion sur la poétique d’un écrivain et la relation qu’il entretient avec ses textes – ce qui varie beaucoup selon… Más informaciones https://calenda-formation.labocleo.org/299779
LOCATION:París
END:VEVENT
BEGIN:VEVENT
DTSTART;VALUE=DATE:20141114
DTEND;VALUE=DATE:20141115
UID:299779-20141114@calenda.revues.org
SUMMARY:Manuscrit francophone
URL:https://calenda-formation.labocleo.org/299779
DESCRIPTION: L’approche génétique d’un texte à partir de l'analyse de ses manuscrits conduit à faire avancer\, à partir de données objectives\, la réflexion sur la poétique d’un écrivain et la relation qu’il entretient avec ses textes – ce qui varie beaucoup selon… Más informaciones https://calenda-formation.labocleo.org/299779
LOCATION:París
END:VEVENT
BEGIN:VEVENT
DTSTART;VALUE=DATE:20141212
DTEND;VALUE=DATE:20141213
UID:299779-20141212@calenda.revues.org
SUMMARY:Manuscrit francophone
URL:https://calenda-formation.labocleo.org/299779
DESCRIPTION: L’approche génétique d’un texte à partir de l'analyse de ses manuscrits conduit à faire avancer\, à partir de données objectives\, la réflexion sur la poétique d’un écrivain et la relation qu’il entretient avec ses textes – ce qui varie beaucoup selon… Más informaciones https://calenda-formation.labocleo.org/299779
LOCATION:París
END:VEVENT
BEGIN:VEVENT
DTSTART;VALUE=DATE:20150123
DTEND;VALUE=DATE:20150124
UID:299779-20150123@calenda.revues.org
SUMMARY:Manuscrit francophone
URL:https://calenda-formation.labocleo.org/299779
DESCRIPTION: L’approche génétique d’un texte à partir de l'analyse de ses manuscrits conduit à faire avancer\, à partir de données objectives\, la réflexion sur la poétique d’un écrivain et la relation qu’il entretient avec ses textes – ce qui varie beaucoup selon… Más informaciones https://calenda-formation.labocleo.org/299779
LOCATION:París
END:VEVENT
BEGIN:VEVENT
DTSTART;VALUE=DATE:20150213
DTEND;VALUE=DATE:20150214
UID:299779-20150213@calenda.revues.org
SUMMARY:Manuscrit francophone
URL:https://calenda-formation.labocleo.org/299779
DESCRIPTION: L’approche génétique d’un texte à partir de l'analyse de ses manuscrits conduit à faire avancer\, à partir de données objectives\, la réflexion sur la poétique d’un écrivain et la relation qu’il entretient avec ses textes – ce qui varie beaucoup selon… Más informaciones https://calenda-formation.labocleo.org/299779
LOCATION:París
END:VEVENT
BEGIN:VEVENT
DTSTART;VALUE=DATE:20150320
DTEND;VALUE=DATE:20150321
UID:299779-20150320@calenda.revues.org
SUMMARY:Manuscrit francophone
URL:https://calenda-formation.labocleo.org/299779
DESCRIPTION: L’approche génétique d’un texte à partir de l'analyse de ses manuscrits conduit à faire avancer\, à partir de données objectives\, la réflexion sur la poétique d’un écrivain et la relation qu’il entretient avec ses textes – ce qui varie beaucoup selon… Más informaciones https://calenda-formation.labocleo.org/299779
LOCATION:París
END:VEVENT
BEGIN:VEVENT
DTSTART;VALUE=DATE:20150424
DTEND;VALUE=DATE:20150425
UID:299779-20150424@calenda.revues.org
SUMMARY:Manuscrit francophone
URL:https://calenda-formation.labocleo.org/299779
DESCRIPTION: L’approche génétique d’un texte à partir de l'analyse de ses manuscrits conduit à faire avancer\, à partir de données objectives\, la réflexion sur la poétique d’un écrivain et la relation qu’il entretient avec ses textes – ce qui varie beaucoup selon… Más informaciones https://calenda-formation.labocleo.org/299779
LOCATION:París
END:VEVENT
BEGIN:VEVENT
DTSTART;VALUE=DATE:20150515
DTEND;VALUE=DATE:20150516
UID:299779-20150515@calenda.revues.org
SUMMARY:Manuscrit francophone
URL:https://calenda-formation.labocleo.org/299779
DESCRIPTION: L’approche génétique d’un texte à partir de l'analyse de ses manuscrits conduit à faire avancer\, à partir de données objectives\, la réflexion sur la poétique d’un écrivain et la relation qu’il entretient avec ses textes – ce qui varie beaucoup selon… Más informaciones https://calenda-formation.labocleo.org/299779
LOCATION:París
END:VEVENT
END:VCALENDAR
