BEGIN:VCALENDAR
VERSION:2.0
PRODID:-//https://calenda-formation.labocleo.org
X-WR-CALNAME:Calenda
X-WR-TIMEZONE:Europe/Paris
CALSCALE:GREGORIAN
X-WR-CALDESC:Le calendrier des lettres et sciences humaines et sociales
METHOD:PUBLISH
BEGIN:VEVENT
DTSTART;VALUE=DATE:20141003
DTEND;VALUE=DATE:20141004
UID:300483-20141003@calenda.revues.org
SUMMARY:Luttes des peuples minorisés
URL:https://calenda-formation.labocleo.org/300483
DESCRIPTION:Le groupe de recherche Ermine (CRBC EA-4451) organise un séminaire mensuel sur les thèmes suivants : concevoir la diversité : réflexion théorique sur les questions d’altérité\, diversité\, ethnicité\, identité\, minorité\, nation\, etc ; observer le monde … @plus_info https://calenda-formation.labocleo.org/300483
LOCATION:Rennes
END:VEVENT
BEGIN:VEVENT
DTSTART;VALUE=DATE:20141114
DTEND;VALUE=DATE:20141115
UID:300483-20141114@calenda.revues.org
SUMMARY:Luttes des peuples minorisés
URL:https://calenda-formation.labocleo.org/300483
DESCRIPTION:Le groupe de recherche Ermine (CRBC EA-4451) organise un séminaire mensuel sur les thèmes suivants : concevoir la diversité : réflexion théorique sur les questions d’altérité\, diversité\, ethnicité\, identité\, minorité\, nation\, etc ; observer le monde … @plus_info https://calenda-formation.labocleo.org/300483
LOCATION:Rennes
END:VEVENT
BEGIN:VEVENT
DTSTART;VALUE=DATE:20141212
DTEND;VALUE=DATE:20141213
UID:300483-20141212@calenda.revues.org
SUMMARY:Luttes des peuples minorisés
URL:https://calenda-formation.labocleo.org/300483
DESCRIPTION:Le groupe de recherche Ermine (CRBC EA-4451) organise un séminaire mensuel sur les thèmes suivants : concevoir la diversité : réflexion théorique sur les questions d’altérité\, diversité\, ethnicité\, identité\, minorité\, nation\, etc ; observer le monde … @plus_info https://calenda-formation.labocleo.org/300483
LOCATION:Rennes
END:VEVENT
BEGIN:VEVENT
DTSTART;VALUE=DATE:20150109
DTEND;VALUE=DATE:20150110
UID:300483-20150109@calenda.revues.org
SUMMARY:Luttes des peuples minorisés
URL:https://calenda-formation.labocleo.org/300483
DESCRIPTION:Le groupe de recherche Ermine (CRBC EA-4451) organise un séminaire mensuel sur les thèmes suivants : concevoir la diversité : réflexion théorique sur les questions d’altérité\, diversité\, ethnicité\, identité\, minorité\, nation\, etc ; observer le monde … @plus_info https://calenda-formation.labocleo.org/300483
LOCATION:Rennes
END:VEVENT
BEGIN:VEVENT
DTSTART;VALUE=DATE:20150206
DTEND;VALUE=DATE:20150207
UID:300483-20150206@calenda.revues.org
SUMMARY:Luttes des peuples minorisés
URL:https://calenda-formation.labocleo.org/300483
DESCRIPTION:Le groupe de recherche Ermine (CRBC EA-4451) organise un séminaire mensuel sur les thèmes suivants : concevoir la diversité : réflexion théorique sur les questions d’altérité\, diversité\, ethnicité\, identité\, minorité\, nation\, etc ; observer le monde … @plus_info https://calenda-formation.labocleo.org/300483
LOCATION:Rennes
END:VEVENT
BEGIN:VEVENT
DTSTART;VALUE=DATE:20150313
DTEND;VALUE=DATE:20150314
UID:300483-20150313@calenda.revues.org
SUMMARY:Luttes des peuples minorisés
URL:https://calenda-formation.labocleo.org/300483
DESCRIPTION:Le groupe de recherche Ermine (CRBC EA-4451) organise un séminaire mensuel sur les thèmes suivants : concevoir la diversité : réflexion théorique sur les questions d’altérité\, diversité\, ethnicité\, identité\, minorité\, nation\, etc ; observer le monde … @plus_info https://calenda-formation.labocleo.org/300483
LOCATION:Rennes
END:VEVENT
BEGIN:VEVENT
DTSTART;VALUE=DATE:20150410
DTEND;VALUE=DATE:20150411
UID:300483-20150410@calenda.revues.org
SUMMARY:Luttes des peuples minorisés
URL:https://calenda-formation.labocleo.org/300483
DESCRIPTION:Le groupe de recherche Ermine (CRBC EA-4451) organise un séminaire mensuel sur les thèmes suivants : concevoir la diversité : réflexion théorique sur les questions d’altérité\, diversité\, ethnicité\, identité\, minorité\, nation\, etc ; observer le monde … @plus_info https://calenda-formation.labocleo.org/300483
LOCATION:Rennes
END:VEVENT
BEGIN:VEVENT
DTSTART;VALUE=DATE:20150612
DTEND;VALUE=DATE:20150613
UID:300483-20150612@calenda.revues.org
SUMMARY:Luttes des peuples minorisés
URL:https://calenda-formation.labocleo.org/300483
DESCRIPTION:Le groupe de recherche Ermine (CRBC EA-4451) organise un séminaire mensuel sur les thèmes suivants : concevoir la diversité : réflexion théorique sur les questions d’altérité\, diversité\, ethnicité\, identité\, minorité\, nation\, etc ; observer le monde … @plus_info https://calenda-formation.labocleo.org/300483
LOCATION:Rennes
END:VEVENT
BEGIN:VEVENT
DTSTART;VALUE=DATE:20150522
DTEND;VALUE=DATE:20150523
UID:300483-20150522@calenda.revues.org
SUMMARY:Luttes des peuples minorisés
URL:https://calenda-formation.labocleo.org/300483
DESCRIPTION:Le groupe de recherche Ermine (CRBC EA-4451) organise un séminaire mensuel sur les thèmes suivants : concevoir la diversité : réflexion théorique sur les questions d’altérité\, diversité\, ethnicité\, identité\, minorité\, nation\, etc ; observer le monde … @plus_info https://calenda-formation.labocleo.org/300483
LOCATION:Rennes
END:VEVENT
END:VCALENDAR
