BEGIN:VCALENDAR
VERSION:2.0
PRODID:-//https://calenda-formation.labocleo.org
X-WR-CALNAME:Calenda
X-WR-TIMEZONE:Europe/Paris
CALSCALE:GREGORIAN
X-WR-CALDESC:Le calendrier des lettres et sciences humaines et sociales
METHOD:PUBLISH
BEGIN:VEVENT
DTSTART;VALUE=DATE:20150205
DTEND;VALUE=DATE:20150206
UID:300786-20150205@calenda.revues.org
SUMMARY:Imaginaire sériel 
URL:https://calenda-formation.labocleo.org/300786
DESCRIPTION:Ce colloque fait suite à deux ans de séminaires sur le thème « Mythes et séries TV : regards croisés »\, qui se sont déroulées de 2013 à 2014 à l’iniversité Stendhal. Il nous permettra de mettre à profit la réflexion mise en œuvre lors de ces séminair… Weitere Informationen https://calenda-formation.labocleo.org/300786
LOCATION:Saint-Martin-d'Hères
END:VEVENT
END:VCALENDAR
