BEGIN:VCALENDAR
VERSION:2.0
PRODID:-//https://calenda-formation.labocleo.org
X-WR-CALNAME:Calenda
X-WR-TIMEZONE:Europe/Paris
CALSCALE:GREGORIAN
X-WR-CALDESC:The calendar for arts, humanities and social sciences
METHOD:PUBLISH
BEGIN:VEVENT
DTSTART;VALUE=DATE:20141002
DTEND;VALUE=DATE:20141003
UID:301527-20141002@calenda.revues.org
SUMMARY:Les usages de la sociologie des politiques sociales
URL:https://calenda-formation.labocleo.org/301527
DESCRIPTION:L’interrogation sur l’utilité et les usages de la sociologie est aussi ancienne que la fondation de la discipline. La reprendre aujourd’hui dans le champ des politiques sociales\, lequel oblige à penser explicitement les rapports entre le « social » a… @plus_info https://calenda-formation.labocleo.org/301527
LOCATION:Dijon
END:VEVENT
BEGIN:VEVENT
DTSTART;VALUE=DATE:20141003
DTEND;VALUE=DATE:20141004
UID:301527-20141003@calenda.revues.org
SUMMARY:Les usages de la sociologie des politiques sociales
URL:https://calenda-formation.labocleo.org/301527
DESCRIPTION:L’interrogation sur l’utilité et les usages de la sociologie est aussi ancienne que la fondation de la discipline. La reprendre aujourd’hui dans le champ des politiques sociales\, lequel oblige à penser explicitement les rapports entre le « social » a… @plus_info https://calenda-formation.labocleo.org/301527
LOCATION:Dijon
END:VEVENT
END:VCALENDAR
