BEGIN:VCALENDAR
VERSION:2.0
PRODID:-//https://calenda-formation.labocleo.org
X-WR-CALNAME:Calenda
X-WR-TIMEZONE:Europe/Paris
CALSCALE:GREGORIAN
X-WR-CALDESC:The calendar for arts, humanities and social sciences
METHOD:PUBLISH
BEGIN:VEVENT
DTSTART;VALUE=DATE:20141205
DTEND;VALUE=DATE:20141206
UID:303459-20141205@calenda.revues.org
SUMMARY:Learning and teaching when the humanities become digital
URL:https://calenda-formation.labocleo.org/303459
DESCRIPTION:La journée DARIAH-FR aborde l’enseignement par les technologies numériques et la formation aux méthodes et aux outils numériques. Quelles leçons tirer des expérimentations passées\, généralement isolées\, et comment fédérer les initiatives pédagogiques… @plus_info https://calenda-formation.labocleo.org/303459
LOCATION:Paris
END:VEVENT
END:VCALENDAR
