BEGIN:VCALENDAR
VERSION:2.0
PRODID:-//https://calenda-formation.labocleo.org
X-WR-CALNAME:Calenda
X-WR-TIMEZONE:Europe/Paris
CALSCALE:GREGORIAN
X-WR-CALDESC:O calendário de letras e de ciências sociais e humanas
METHOD:PUBLISH
BEGIN:VEVENT
DTSTART;VALUE=DATE:20141022
DTEND;VALUE=DATE:20141023
UID:303692-20141022@calenda.revues.org
SUMMARY:Biographies d'objets
URL:https://calenda-formation.labocleo.org/303692
DESCRIPTION:Ce séminaire a pour intention de proposer une réflexion sur la vie des artéfacts archéologiques. Appréhender les différentes étapes de production\, d’utilisation et de déposition d’objets par les populations du passé nous permet de comprendre le rappo… @plus_info https://calenda-formation.labocleo.org/303692
LOCATION:Pessac
END:VEVENT
BEGIN:VEVENT
DTSTART;VALUE=DATE:20141126
DTEND;VALUE=DATE:20141127
UID:303692-20141126@calenda.revues.org
SUMMARY:Biographies d'objets
URL:https://calenda-formation.labocleo.org/303692
DESCRIPTION:Ce séminaire a pour intention de proposer une réflexion sur la vie des artéfacts archéologiques. Appréhender les différentes étapes de production\, d’utilisation et de déposition d’objets par les populations du passé nous permet de comprendre le rappo… @plus_info https://calenda-formation.labocleo.org/303692
LOCATION:Pessac
END:VEVENT
BEGIN:VEVENT
DTSTART;VALUE=DATE:20150128
DTEND;VALUE=DATE:20150129
UID:303692-20150128@calenda.revues.org
SUMMARY:Biographies d'objets
URL:https://calenda-formation.labocleo.org/303692
DESCRIPTION:Ce séminaire a pour intention de proposer une réflexion sur la vie des artéfacts archéologiques. Appréhender les différentes étapes de production\, d’utilisation et de déposition d’objets par les populations du passé nous permet de comprendre le rappo… @plus_info https://calenda-formation.labocleo.org/303692
LOCATION:Pessac
END:VEVENT
BEGIN:VEVENT
DTSTART;VALUE=DATE:20150218
DTEND;VALUE=DATE:20150219
UID:303692-20150218@calenda.revues.org
SUMMARY:Biographies d'objets
URL:https://calenda-formation.labocleo.org/303692
DESCRIPTION:Ce séminaire a pour intention de proposer une réflexion sur la vie des artéfacts archéologiques. Appréhender les différentes étapes de production\, d’utilisation et de déposition d’objets par les populations du passé nous permet de comprendre le rappo… @plus_info https://calenda-formation.labocleo.org/303692
LOCATION:Pessac
END:VEVENT
BEGIN:VEVENT
DTSTART;VALUE=DATE:20150311
DTEND;VALUE=DATE:20150312
UID:303692-20150311@calenda.revues.org
SUMMARY:Biographies d'objets
URL:https://calenda-formation.labocleo.org/303692
DESCRIPTION:Ce séminaire a pour intention de proposer une réflexion sur la vie des artéfacts archéologiques. Appréhender les différentes étapes de production\, d’utilisation et de déposition d’objets par les populations du passé nous permet de comprendre le rappo… @plus_info https://calenda-formation.labocleo.org/303692
LOCATION:Pessac
END:VEVENT
BEGIN:VEVENT
DTSTART;VALUE=DATE:20150408
DTEND;VALUE=DATE:20150409
UID:303692-20150408@calenda.revues.org
SUMMARY:Biographies d'objets
URL:https://calenda-formation.labocleo.org/303692
DESCRIPTION:Ce séminaire a pour intention de proposer une réflexion sur la vie des artéfacts archéologiques. Appréhender les différentes étapes de production\, d’utilisation et de déposition d’objets par les populations du passé nous permet de comprendre le rappo… @plus_info https://calenda-formation.labocleo.org/303692
LOCATION:Pessac
END:VEVENT
END:VCALENDAR
