BEGIN:VCALENDAR
VERSION:2.0
PRODID:-//https://calenda-formation.labocleo.org
X-WR-CALNAME:Calenda
X-WR-TIMEZONE:Europe/Paris
CALSCALE:GREGORIAN
X-WR-CALDESC:The calendar for arts, humanities and social sciences
METHOD:PUBLISH
BEGIN:VEVENT
DTSTART;VALUE=DATE:20141217
DTEND;VALUE=DATE:20141218
UID:303841-20141217@calenda.revues.org
SUMMARY:Linguistic research into gender and sexualities
URL:https://calenda-formation.labocleo.org/303841
DESCRIPTION:L’atelier Recherches linguistiques sur le genre et les sexualités se veut un espace où exposer et discuter les recherches en cours des jeunes chercheur.e.s en genre et langage\, encourager les collaborations et la mise en réseau. Il constituera un esp… @plus_info https://calenda-formation.labocleo.org/303841
LOCATION:Paris
END:VEVENT
BEGIN:VEVENT
DTSTART;VALUE=DATE:20150216
DTEND;VALUE=DATE:20150217
UID:303841-20150216@calenda.revues.org
SUMMARY:Linguistic research into gender and sexualities
URL:https://calenda-formation.labocleo.org/303841
DESCRIPTION:L’atelier Recherches linguistiques sur le genre et les sexualités se veut un espace où exposer et discuter les recherches en cours des jeunes chercheur.e.s en genre et langage\, encourager les collaborations et la mise en réseau. Il constituera un esp… @plus_info https://calenda-formation.labocleo.org/303841
LOCATION:Paris
END:VEVENT
BEGIN:VEVENT
DTSTART;VALUE=DATE:20150415
DTEND;VALUE=DATE:20150416
UID:303841-20150415@calenda.revues.org
SUMMARY:Linguistic research into gender and sexualities
URL:https://calenda-formation.labocleo.org/303841
DESCRIPTION:L’atelier Recherches linguistiques sur le genre et les sexualités se veut un espace où exposer et discuter les recherches en cours des jeunes chercheur.e.s en genre et langage\, encourager les collaborations et la mise en réseau. Il constituera un esp… @plus_info https://calenda-formation.labocleo.org/303841
LOCATION:Paris
END:VEVENT
BEGIN:VEVENT
DTSTART;VALUE=DATE:20150615
DTEND;VALUE=DATE:20150616
UID:303841-20150615@calenda.revues.org
SUMMARY:Linguistic research into gender and sexualities
URL:https://calenda-formation.labocleo.org/303841
DESCRIPTION:L’atelier Recherches linguistiques sur le genre et les sexualités se veut un espace où exposer et discuter les recherches en cours des jeunes chercheur.e.s en genre et langage\, encourager les collaborations et la mise en réseau. Il constituera un esp… @plus_info https://calenda-formation.labocleo.org/303841
LOCATION:Paris
END:VEVENT
END:VCALENDAR
