BEGIN:VCALENDAR
VERSION:2.0
PRODID:-//https://calenda-formation.labocleo.org
X-WR-CALNAME:Calenda
X-WR-TIMEZONE:Europe/Paris
CALSCALE:GREGORIAN
X-WR-CALDESC:The calendar for arts, humanities and social sciences
METHOD:PUBLISH
BEGIN:VEVENT
DTSTART;VALUE=DATE:20141130
DTEND;VALUE=DATE:20141201
UID:304019-20141130@calenda.revues.org
SUMMARY:Internship in the issues of resistance to antibiotics in veterinary medicine
URL:https://calenda-formation.labocleo.org/304019
DESCRIPTION:L'unité RiTME (Risques\, travail\, marchés\, État) recrute un stagiaire en sciences sociales ou en sciences de l'information et en communication pour travailler sur un projet de recherche sur l'usage des médicaments vétérinaires. À l'heure où l'antibior… @plus_info https://calenda-formation.labocleo.org/304019
LOCATION:Ivry-sur-Seine
END:VEVENT
END:VCALENDAR
