BEGIN:VCALENDAR
VERSION:2.0
PRODID:-//https://calenda-formation.labocleo.org
X-WR-CALNAME:Calenda
X-WR-TIMEZONE:Europe/Paris
CALSCALE:GREGORIAN
X-WR-CALDESC:The calendar for arts, humanities and social sciences
METHOD:PUBLISH
BEGIN:VEVENT
DTSTART;VALUE=DATE:20141117
DTEND;VALUE=DATE:20141118
UID:304195-20141117@calenda.revues.org
SUMMARY:Bossuet in context: predication\, spirituality and theology
URL:https://calenda-formation.labocleo.org/304195
DESCRIPTION:Le colloque international se tiendra à l'université de Strasbourg du 17-19 novembre 2014\, dans le cadre du programme « Bossuet écrivain\, intellectuel et penseur politique dans le contexte de son temps » (Gérard Ferreyrolles\, Béatrice Guion et Hans-Ch… @plus_info https://calenda-formation.labocleo.org/304195
LOCATION:Strasbourg
END:VEVENT
END:VCALENDAR
