BEGIN:VCALENDAR
VERSION:2.0
PRODID:-//https://calenda-formation.labocleo.org
X-WR-CALNAME:Calenda
X-WR-TIMEZONE:Europe/Paris
CALSCALE:GREGORIAN
X-WR-CALDESC:Le calendrier des lettres et sciences humaines et sociales
METHOD:PUBLISH
BEGIN:VEVENT
DTSTART;VALUE=DATE:20141212
DTEND;VALUE=DATE:20141213
UID:304305-20141212@calenda.revues.org
SUMMARY:Efficacité énergétique : apports des sciences pour l’ingénieur et perspectives pour une interdisciplinarité avec les sciences sociales
URL:https://calenda-formation.labocleo.org/304305
DESCRIPTION:Le contexte de la transition énergétique a rendu criant le besoin de nouvelles méthodes et des outils pour appréhender la complexité de la problématique de réduction des consommations énergétiques des bâtiments. A la recherche de tous les leviers d’a… Más informaciones https://calenda-formation.labocleo.org/304305
LOCATION:Champs-sur-Marne
END:VEVENT
END:VCALENDAR
