BEGIN:VCALENDAR
VERSION:2.0
PRODID:-//https://calenda-formation.labocleo.org
X-WR-CALNAME:Calenda
X-WR-TIMEZONE:Europe/Paris
CALSCALE:GREGORIAN
X-WR-CALDESC:Le calendrier des lettres et sciences humaines et sociales
METHOD:PUBLISH
BEGIN:VEVENT
DTSTART;VALUE=DATE:20141105
DTEND;VALUE=DATE:20141106
UID:304394-20141105@calenda.revues.org
SUMMARY:Duras infinie
URL:https://calenda-formation.labocleo.org/304394
DESCRIPTION:Dans la volonté de revisiter l'œuvre considérable de Marguerite Duras\, nous nous proposons d’organiser à Madrid ce colloque international où nous examinerons la relation de Duras avec le public et la critique - enfin dégagée de la polémique qui en a … Más informaciones https://calenda-formation.labocleo.org/304394
LOCATION:Madrid
END:VEVENT
BEGIN:VEVENT
DTSTART;VALUE=DATE:20141106
DTEND;VALUE=DATE:20141107
UID:304394-20141106@calenda.revues.org
SUMMARY:Duras infinie
URL:https://calenda-formation.labocleo.org/304394
DESCRIPTION:Dans la volonté de revisiter l'œuvre considérable de Marguerite Duras\, nous nous proposons d’organiser à Madrid ce colloque international où nous examinerons la relation de Duras avec le public et la critique - enfin dégagée de la polémique qui en a … Más informaciones https://calenda-formation.labocleo.org/304394
LOCATION:Madrid
END:VEVENT
BEGIN:VEVENT
DTSTART;VALUE=DATE:20141107
DTEND;VALUE=DATE:20141108
UID:304394-20141107@calenda.revues.org
SUMMARY:Duras infinie
URL:https://calenda-formation.labocleo.org/304394
DESCRIPTION:Dans la volonté de revisiter l'œuvre considérable de Marguerite Duras\, nous nous proposons d’organiser à Madrid ce colloque international où nous examinerons la relation de Duras avec le public et la critique - enfin dégagée de la polémique qui en a … Más informaciones https://calenda-formation.labocleo.org/304394
LOCATION:Madrid
END:VEVENT
END:VCALENDAR
