BEGIN:VCALENDAR
VERSION:2.0
PRODID:-//https://calenda-formation.labocleo.org
X-WR-CALNAME:Calenda
X-WR-TIMEZONE:Europe/Paris
CALSCALE:GREGORIAN
X-WR-CALDESC:Le calendrier des lettres et sciences humaines et sociales
METHOD:PUBLISH
BEGIN:VEVENT
DTSTART;VALUE=DATE:20150112
DTEND;VALUE=DATE:20150113
UID:304524-20150112@calenda.revues.org
SUMMARY:La Ligue française de l’enseignement et le cinéma
URL:https://calenda-formation.labocleo.org/304524
DESCRIPTION:Fondée par Jean Macé en 1866\, la Ligue de l’enseignement fêtera en 2016 ses 150 ans. Dans ce cadre\, elle a programmé en 2015 et 2016 un ensemble d’événements. Ce colloque propose d'étudier les activités d’éducation cinématographique de l’Union frança… Weitere Informationen https://calenda-formation.labocleo.org/304524
LOCATION:Paris
END:VEVENT
END:VCALENDAR
