BEGIN:VCALENDAR
VERSION:2.0
PRODID:-//https://calenda-formation.labocleo.org
X-WR-CALNAME:Calenda
X-WR-TIMEZONE:Europe/Paris
CALSCALE:GREGORIAN
X-WR-CALDESC:The calendar for arts, humanities and social sciences
METHOD:PUBLISH
BEGIN:VEVENT
DTSTART;VALUE=DATE:20141130
DTEND;VALUE=DATE:20141201
UID:304739-20141130@calenda.revues.org
SUMMARY:Poste de doctorant(e) : « Doing House and Family ». Material Culture\, Social Space\, and Knowledge in Transition (1700-1850)
URL:https://calenda-formation.labocleo.org/304739
DESCRIPTION:La section d’histoire de l’université de Lausanne\, en collaboration avec les universités de Berne\, Bâle et Lucerne\, met au concours le poste suivant : Assistant-e doctorant-e FNS.Ce poste s’inscrit dans le cadre d’un projet de recherche « Sinergia »\,… @plus_info https://calenda-formation.labocleo.org/304739
LOCATION:
END:VEVENT
END:VCALENDAR
