BEGIN:VCALENDAR
VERSION:2.0
PRODID:-//https://calenda-formation.labocleo.org
X-WR-CALNAME:Calenda
X-WR-TIMEZONE:Europe/Paris
CALSCALE:GREGORIAN
X-WR-CALDESC:The calendar for arts, humanities and social sciences
METHOD:PUBLISH
BEGIN:VEVENT
DTSTART;VALUE=DATE:20141124
DTEND;VALUE=DATE:20141125
UID:304855-20141124@calenda.revues.org
SUMMARY:The mysteries of Greek and Roman Antiquity: a return to the concept and realities
URL:https://calenda-formation.labocleo.org/304855
DESCRIPTION:Les journées d'études sur « Les "mystères" de l'Antiquité grecque et romaine : retour sur le concept et les réalités » s'inscrivent dans le programme de recherches « CHRONOS. Chronologies des évolutions religieuses : formes religieuses\, pratiques et … @plus_info https://calenda-formation.labocleo.org/304855
LOCATION:Paris
END:VEVENT
BEGIN:VEVENT
DTSTART;VALUE=DATE:20141125
DTEND;VALUE=DATE:20141126
UID:304855-20141125@calenda.revues.org
SUMMARY:The mysteries of Greek and Roman Antiquity: a return to the concept and realities
URL:https://calenda-formation.labocleo.org/304855
DESCRIPTION:Les journées d'études sur « Les "mystères" de l'Antiquité grecque et romaine : retour sur le concept et les réalités » s'inscrivent dans le programme de recherches « CHRONOS. Chronologies des évolutions religieuses : formes religieuses\, pratiques et … @plus_info https://calenda-formation.labocleo.org/304855
LOCATION:Paris
END:VEVENT
END:VCALENDAR
