BEGIN:VCALENDAR
VERSION:2.0
PRODID:-//https://calenda-formation.labocleo.org
X-WR-CALNAME:Calenda
X-WR-TIMEZONE:Europe/Paris
CALSCALE:GREGORIAN
X-WR-CALDESC:The calendar for arts, humanities and social sciences
METHOD:PUBLISH
BEGIN:VEVENT
DTSTART;VALUE=DATE:20150115
DTEND;VALUE=DATE:20150116
UID:305108-20150115@calenda.revues.org
SUMMARY:La vie et le vivant dans la philosophie moderne
URL:https://calenda-formation.labocleo.org/305108
DESCRIPTION:Conformément au thème de cette année\, des communications peuvent être présentées se proposant de souligner la diversité des problèmes concernant le vivant et la vie chez les penseurs modernes. D’un côté\, il s’agit d’interroger les difficultés que les… @plus_info https://calenda-formation.labocleo.org/305108
LOCATION:Ixelles-Elsene
END:VEVENT
END:VCALENDAR
