BEGIN:VCALENDAR
VERSION:2.0
PRODID:-//https://calenda-formation.labocleo.org
X-WR-CALNAME:Calenda
X-WR-TIMEZONE:Europe/Paris
CALSCALE:GREGORIAN
X-WR-CALDESC:Le calendrier des lettres et sciences humaines et sociales
METHOD:PUBLISH
BEGIN:VEVENT
DTSTART;VALUE=DATE:20150131
DTEND;VALUE=DATE:20150201
UID:305519-20150131@calenda.revues.org
SUMMARY:The Many Faces of Slavery:  non-traditional slave experiences in the Atlantic World
URL:https://calenda-formation.labocleo.org/305519
DESCRIPTION:By the 18th century\, racial slavery had matured into a fully-fledged\, firmly established\, profitable form of labour in the Atlantic World. In slave societies\, the development of the plantation unit led both to the geographical concentration of the sl… Weitere Informationen https://calenda-formation.labocleo.org/305519
LOCATION:Montpellier
END:VEVENT
END:VCALENDAR
