BEGIN:VCALENDAR
VERSION:2.0
PRODID:-//https://calenda-formation.labocleo.org
X-WR-CALNAME:Calenda
X-WR-TIMEZONE:Europe/Paris
CALSCALE:GREGORIAN
X-WR-CALDESC:The calendar for arts, humanities and social sciences
METHOD:PUBLISH
BEGIN:VEVENT
DTSTART;VALUE=DATE:20141106
DTEND;VALUE=DATE:20141107
UID:306007-20141106@calenda.revues.org
SUMMARY:Contemporary editorial practices and policies (2014-2015)
URL:https://calenda-formation.labocleo.org/306007
DESCRIPTION:Le séminaire étudie l'organisation du travail intellectuel à partir de l'activité de publication scientifique du XIXe siècle à aujourd'hui. Après avoir étudié ses rythmes de production et de circulation dans le cadre  d’une enquête statistique (2011-… @plus_info https://calenda-formation.labocleo.org/306007
LOCATION:Paris
END:VEVENT
BEGIN:VEVENT
DTSTART;VALUE=DATE:20141120
DTEND;VALUE=DATE:20141121
UID:306007-20141120@calenda.revues.org
SUMMARY:Contemporary editorial practices and policies (2014-2015)
URL:https://calenda-formation.labocleo.org/306007
DESCRIPTION:Le séminaire étudie l'organisation du travail intellectuel à partir de l'activité de publication scientifique du XIXe siècle à aujourd'hui. Après avoir étudié ses rythmes de production et de circulation dans le cadre  d’une enquête statistique (2011-… @plus_info https://calenda-formation.labocleo.org/306007
LOCATION:Paris
END:VEVENT
BEGIN:VEVENT
DTSTART;VALUE=DATE:20141218
DTEND;VALUE=DATE:20141219
UID:306007-20141218@calenda.revues.org
SUMMARY:Contemporary editorial practices and policies (2014-2015)
URL:https://calenda-formation.labocleo.org/306007
DESCRIPTION:Le séminaire étudie l'organisation du travail intellectuel à partir de l'activité de publication scientifique du XIXe siècle à aujourd'hui. Après avoir étudié ses rythmes de production et de circulation dans le cadre  d’une enquête statistique (2011-… @plus_info https://calenda-formation.labocleo.org/306007
LOCATION:Paris
END:VEVENT
BEGIN:VEVENT
DTSTART;VALUE=DATE:20150115
DTEND;VALUE=DATE:20150116
UID:306007-20150115@calenda.revues.org
SUMMARY:Contemporary editorial practices and policies (2014-2015)
URL:https://calenda-formation.labocleo.org/306007
DESCRIPTION:Le séminaire étudie l'organisation du travail intellectuel à partir de l'activité de publication scientifique du XIXe siècle à aujourd'hui. Après avoir étudié ses rythmes de production et de circulation dans le cadre  d’une enquête statistique (2011-… @plus_info https://calenda-formation.labocleo.org/306007
LOCATION:Paris
END:VEVENT
BEGIN:VEVENT
DTSTART;VALUE=DATE:20150205
DTEND;VALUE=DATE:20150206
UID:306007-20150205@calenda.revues.org
SUMMARY:Contemporary editorial practices and policies (2014-2015)
URL:https://calenda-formation.labocleo.org/306007
DESCRIPTION:Le séminaire étudie l'organisation du travail intellectuel à partir de l'activité de publication scientifique du XIXe siècle à aujourd'hui. Après avoir étudié ses rythmes de production et de circulation dans le cadre  d’une enquête statistique (2011-… @plus_info https://calenda-formation.labocleo.org/306007
LOCATION:Paris
END:VEVENT
BEGIN:VEVENT
DTSTART;VALUE=DATE:20150219
DTEND;VALUE=DATE:20150220
UID:306007-20150219@calenda.revues.org
SUMMARY:Contemporary editorial practices and policies (2014-2015)
URL:https://calenda-formation.labocleo.org/306007
DESCRIPTION:Le séminaire étudie l'organisation du travail intellectuel à partir de l'activité de publication scientifique du XIXe siècle à aujourd'hui. Après avoir étudié ses rythmes de production et de circulation dans le cadre  d’une enquête statistique (2011-… @plus_info https://calenda-formation.labocleo.org/306007
LOCATION:Paris
END:VEVENT
BEGIN:VEVENT
DTSTART;VALUE=DATE:20150305
DTEND;VALUE=DATE:20150306
UID:306007-20150305@calenda.revues.org
SUMMARY:Contemporary editorial practices and policies (2014-2015)
URL:https://calenda-formation.labocleo.org/306007
DESCRIPTION:Le séminaire étudie l'organisation du travail intellectuel à partir de l'activité de publication scientifique du XIXe siècle à aujourd'hui. Après avoir étudié ses rythmes de production et de circulation dans le cadre  d’une enquête statistique (2011-… @plus_info https://calenda-formation.labocleo.org/306007
LOCATION:Paris
END:VEVENT
BEGIN:VEVENT
DTSTART;VALUE=DATE:20150319
DTEND;VALUE=DATE:20150320
UID:306007-20150319@calenda.revues.org
SUMMARY:Contemporary editorial practices and policies (2014-2015)
URL:https://calenda-formation.labocleo.org/306007
DESCRIPTION:Le séminaire étudie l'organisation du travail intellectuel à partir de l'activité de publication scientifique du XIXe siècle à aujourd'hui. Après avoir étudié ses rythmes de production et de circulation dans le cadre  d’une enquête statistique (2011-… @plus_info https://calenda-formation.labocleo.org/306007
LOCATION:Paris
END:VEVENT
BEGIN:VEVENT
DTSTART;VALUE=DATE:20150402
DTEND;VALUE=DATE:20150403
UID:306007-20150402@calenda.revues.org
SUMMARY:Contemporary editorial practices and policies (2014-2015)
URL:https://calenda-formation.labocleo.org/306007
DESCRIPTION:Le séminaire étudie l'organisation du travail intellectuel à partir de l'activité de publication scientifique du XIXe siècle à aujourd'hui. Après avoir étudié ses rythmes de production et de circulation dans le cadre  d’une enquête statistique (2011-… @plus_info https://calenda-formation.labocleo.org/306007
LOCATION:Paris
END:VEVENT
BEGIN:VEVENT
DTSTART;VALUE=DATE:20150416
DTEND;VALUE=DATE:20150417
UID:306007-20150416@calenda.revues.org
SUMMARY:Contemporary editorial practices and policies (2014-2015)
URL:https://calenda-formation.labocleo.org/306007
DESCRIPTION:Le séminaire étudie l'organisation du travail intellectuel à partir de l'activité de publication scientifique du XIXe siècle à aujourd'hui. Après avoir étudié ses rythmes de production et de circulation dans le cadre  d’une enquête statistique (2011-… @plus_info https://calenda-formation.labocleo.org/306007
LOCATION:Paris
END:VEVENT
BEGIN:VEVENT
DTSTART;VALUE=DATE:20150507
DTEND;VALUE=DATE:20150508
UID:306007-20150507@calenda.revues.org
SUMMARY:Contemporary editorial practices and policies (2014-2015)
URL:https://calenda-formation.labocleo.org/306007
DESCRIPTION:Le séminaire étudie l'organisation du travail intellectuel à partir de l'activité de publication scientifique du XIXe siècle à aujourd'hui. Après avoir étudié ses rythmes de production et de circulation dans le cadre  d’une enquête statistique (2011-… @plus_info https://calenda-formation.labocleo.org/306007
LOCATION:Paris
END:VEVENT
END:VCALENDAR
