BEGIN:VCALENDAR
VERSION:2.0
PRODID:-//https://calenda-formation.labocleo.org
X-WR-CALNAME:Calenda
X-WR-TIMEZONE:Europe/Paris
CALSCALE:GREGORIAN
X-WR-CALDESC:Le calendrier des lettres et sciences humaines et sociales
METHOD:PUBLISH
BEGIN:VEVENT
DTSTART;VALUE=DATE:20150131
DTEND;VALUE=DATE:20150201
UID:306334-20150131@calenda.revues.org
SUMMARY:La vie étudiante vue par les étudiants
URL:https://calenda-formation.labocleo.org/306334
DESCRIPTION:Pour la 24e année consécutive\, l’Observatoire national de la vie étudiante (OVE) lance son concours national « La vie étudiante vue par les étudiants ». Ce concours est destiné à encourager les recherches sur les conditions de vie des étudiants menée… Más informaciones https://calenda-formation.labocleo.org/306334
LOCATION:
END:VEVENT
END:VCALENDAR
