BEGIN:VCALENDAR
VERSION:2.0
PRODID:-//https://calenda-formation.labocleo.org
X-WR-CALNAME:Calenda
X-WR-TIMEZONE:Europe/Paris
CALSCALE:GREGORIAN
X-WR-CALDESC:O calendário de letras e de ciências sociais e humanas
METHOD:PUBLISH
BEGIN:VEVENT
DTSTART;VALUE=DATE:20141215
DTEND;VALUE=DATE:20141216
UID:306370-20141215@calenda.revues.org
SUMMARY:Accès aux droits\, handicaps et participation sociale
URL:https://calenda-formation.labocleo.org/306370
DESCRIPTION:La question du handicap est par nature transversale et oblige au décloisonnement des disciplines et au croisement des regards. Si pour les sciences juridiques\, il est ainsi possible de considérer que\, d’un point de vue normatif\, la France a désormais… @plus_info https://calenda-formation.labocleo.org/306370
LOCATION:Nanterre
END:VEVENT
END:VCALENDAR
