BEGIN:VCALENDAR
VERSION:2.0
PRODID:-//https://calenda-formation.labocleo.org
X-WR-CALNAME:Calenda
X-WR-TIMEZONE:Europe/Paris
CALSCALE:GREGORIAN
X-WR-CALDESC:Le calendrier des lettres et sciences humaines et sociales
METHOD:PUBLISH
BEGIN:VEVENT
DTSTART;VALUE=DATE:20141127
DTEND;VALUE=DATE:20141128
UID:307637-20141127@calenda.revues.org
SUMMARY:Autour de Tommaso et Alessandro Francini
URL:https://calenda-formation.labocleo.org/307637
DESCRIPTION:L’art des fontaines a connu un développement extraordinaire en France sous les règnes d’Henri IV et de Louis XIII. En quelques décennies\, ce qui était encore à la Renaissance un aménagement de luxe devient le décor indispensable de tout jardin d’agré… @plus_info https://calenda-formation.labocleo.org/307637
LOCATION:Paris
END:VEVENT
END:VCALENDAR
