BEGIN:VCALENDAR
VERSION:2.0
PRODID:-//https://calenda-formation.labocleo.org
X-WR-CALNAME:Calenda
X-WR-TIMEZONE:Europe/Paris
CALSCALE:GREGORIAN
X-WR-CALDESC:The calendar for arts, humanities and social sciences
METHOD:PUBLISH
BEGIN:VEVENT
DTSTART;VALUE=DATE:20141119
DTEND;VALUE=DATE:20141120
UID:307827-20141119@calenda.revues.org
SUMMARY:(Self) Exploration: an anthropological arrangement
URL:https://calenda-formation.labocleo.org/307827
DESCRIPTION:Ces journées d’étude sont consacrées à l’exploration ethnographique et aux diverses déambulations méthodologiques qui traversent le travail de la recherche en anthropologie. Les communicants reviennent sur les manières dont ils valorisent leur expéri… @plus_info https://calenda-formation.labocleo.org/307827
LOCATION:Nanterre
END:VEVENT
BEGIN:VEVENT
DTSTART;VALUE=DATE:20141120
DTEND;VALUE=DATE:20141121
UID:307827-20141120@calenda.revues.org
SUMMARY:(Self) Exploration: an anthropological arrangement
URL:https://calenda-formation.labocleo.org/307827
DESCRIPTION:Ces journées d’étude sont consacrées à l’exploration ethnographique et aux diverses déambulations méthodologiques qui traversent le travail de la recherche en anthropologie. Les communicants reviennent sur les manières dont ils valorisent leur expéri… @plus_info https://calenda-formation.labocleo.org/307827
LOCATION:Nanterre
END:VEVENT
END:VCALENDAR
