BEGIN:VCALENDAR
VERSION:2.0
PRODID:-//https://calenda-formation.labocleo.org
X-WR-CALNAME:Calenda
X-WR-TIMEZONE:Europe/Paris
CALSCALE:GREGORIAN
X-WR-CALDESC:The calendar for arts, humanities and social sciences
METHOD:PUBLISH
BEGIN:VEVENT
DTSTART;VALUE=DATE:20150115
DTEND;VALUE=DATE:20150116
UID:307957-20150115@calenda.revues.org
SUMMARY:UNESCO Histories (1945-2015) 
URL:https://calenda-formation.labocleo.org/307957
DESCRIPTION:"International Histories"/"Histoires Internationales" is a new e-journal which will provide a forum for a new international history that concerns itself with the past\, present and future of global civil society\, the international public sphere\, inter… @plus_info https://calenda-formation.labocleo.org/307957
LOCATION:
END:VEVENT
END:VCALENDAR
