BEGIN:VCALENDAR
VERSION:2.0
PRODID:-//https://calenda-formation.labocleo.org
X-WR-CALNAME:Calenda
X-WR-TIMEZONE:Europe/Paris
CALSCALE:GREGORIAN
X-WR-CALDESC:The calendar for arts, humanities and social sciences
METHOD:PUBLISH
BEGIN:VEVENT
DTSTART;VALUE=DATE:20150214
DTEND;VALUE=DATE:20150215
UID:308610-20150214@calenda.revues.org
SUMMARY:Fodéré and the genesis of modern legal medicine
URL:https://calenda-formation.labocleo.org/308610
DESCRIPTION:La perspective envisagée par ce colloque est celle d’une histoire intellectuelle et d’une histoire sociale de la médecine légale à travers ses doctrines et ses pratiques\, ce projet s’inscrivant dans la lignée du colloque de Genève de 1996 : « Homo cr… @plus_info https://calenda-formation.labocleo.org/308610
LOCATION:Geneva
END:VEVENT
END:VCALENDAR
