BEGIN:VCALENDAR
VERSION:2.0
PRODID:-//https://calenda-formation.labocleo.org
X-WR-CALNAME:Calenda
X-WR-TIMEZONE:Europe/Paris
CALSCALE:GREGORIAN
X-WR-CALDESC:Le calendrier des lettres et sciences humaines et sociales
METHOD:PUBLISH
BEGIN:VEVENT
DTSTART;VALUE=DATE:20141218
DTEND;VALUE=DATE:20141219
UID:309199-20141218@calenda.revues.org
SUMMARY:Memoria scientiae 2015: Feeding animals/Eating animals
URL:https://calenda-formation.labocleo.org/309199
DESCRIPTION:According to ancient biological theories\, nutrition is\, along with reproduction\, one of the functions of the soul shared by men\, animals and plants. At the same time\, however\, eating habits are among the starting points on which differences between h… @plus_info https://calenda-formation.labocleo.org/309199
LOCATION:Palerme
END:VEVENT
END:VCALENDAR
