BEGIN:VCALENDAR
VERSION:2.0
PRODID:-//https://calenda-formation.labocleo.org
X-WR-CALNAME:Calenda
X-WR-TIMEZONE:Europe/Paris
CALSCALE:GREGORIAN
X-WR-CALDESC:Le calendrier des lettres et sciences humaines et sociales
METHOD:PUBLISH
BEGIN:VEVENT
DTSTART;VALUE=DATE:20150108
DTEND;VALUE=DATE:20150109
UID:309353-20150108@calenda.revues.org
SUMMARY:Théories et pratiques de l'émancipation : regards croisés (2015)
URL:https://calenda-formation.labocleo.org/309353
DESCRIPTION:L’émancipation est un concept de plus en plus galvaudé dans les sciences sociales : sa présence croissante dans les manifestations scientifiques et dans le champ éditorial l’associe souvent aux pratiques de résistance des dominés\, à la subversion des… @plus_info https://calenda-formation.labocleo.org/309353
LOCATION:Paris
END:VEVENT
BEGIN:VEVENT
DTSTART;VALUE=DATE:20150129
DTEND;VALUE=DATE:20150130
UID:309353-20150129@calenda.revues.org
SUMMARY:Théories et pratiques de l'émancipation : regards croisés (2015)
URL:https://calenda-formation.labocleo.org/309353
DESCRIPTION:L’émancipation est un concept de plus en plus galvaudé dans les sciences sociales : sa présence croissante dans les manifestations scientifiques et dans le champ éditorial l’associe souvent aux pratiques de résistance des dominés\, à la subversion des… @plus_info https://calenda-formation.labocleo.org/309353
LOCATION:Paris
END:VEVENT
BEGIN:VEVENT
DTSTART;VALUE=DATE:20150205
DTEND;VALUE=DATE:20150206
UID:309353-20150205@calenda.revues.org
SUMMARY:Théories et pratiques de l'émancipation : regards croisés (2015)
URL:https://calenda-formation.labocleo.org/309353
DESCRIPTION:L’émancipation est un concept de plus en plus galvaudé dans les sciences sociales : sa présence croissante dans les manifestations scientifiques et dans le champ éditorial l’associe souvent aux pratiques de résistance des dominés\, à la subversion des… @plus_info https://calenda-formation.labocleo.org/309353
LOCATION:Paris
END:VEVENT
BEGIN:VEVENT
DTSTART;VALUE=DATE:20150326
DTEND;VALUE=DATE:20150327
UID:309353-20150326@calenda.revues.org
SUMMARY:Théories et pratiques de l'émancipation : regards croisés (2015)
URL:https://calenda-formation.labocleo.org/309353
DESCRIPTION:L’émancipation est un concept de plus en plus galvaudé dans les sciences sociales : sa présence croissante dans les manifestations scientifiques et dans le champ éditorial l’associe souvent aux pratiques de résistance des dominés\, à la subversion des… @plus_info https://calenda-formation.labocleo.org/309353
LOCATION:Paris
END:VEVENT
BEGIN:VEVENT
DTSTART;VALUE=DATE:20150402
DTEND;VALUE=DATE:20150403
UID:309353-20150402@calenda.revues.org
SUMMARY:Théories et pratiques de l'émancipation : regards croisés (2015)
URL:https://calenda-formation.labocleo.org/309353
DESCRIPTION:L’émancipation est un concept de plus en plus galvaudé dans les sciences sociales : sa présence croissante dans les manifestations scientifiques et dans le champ éditorial l’associe souvent aux pratiques de résistance des dominés\, à la subversion des… @plus_info https://calenda-formation.labocleo.org/309353
LOCATION:Paris
END:VEVENT
BEGIN:VEVENT
DTSTART;VALUE=DATE:20150521
DTEND;VALUE=DATE:20150522
UID:309353-20150521@calenda.revues.org
SUMMARY:Théories et pratiques de l'émancipation : regards croisés (2015)
URL:https://calenda-formation.labocleo.org/309353
DESCRIPTION:L’émancipation est un concept de plus en plus galvaudé dans les sciences sociales : sa présence croissante dans les manifestations scientifiques et dans le champ éditorial l’associe souvent aux pratiques de résistance des dominés\, à la subversion des… @plus_info https://calenda-formation.labocleo.org/309353
LOCATION:Paris
END:VEVENT
BEGIN:VEVENT
DTSTART;VALUE=DATE:20150604
DTEND;VALUE=DATE:20150605
UID:309353-20150604@calenda.revues.org
SUMMARY:Théories et pratiques de l'émancipation : regards croisés (2015)
URL:https://calenda-formation.labocleo.org/309353
DESCRIPTION:L’émancipation est un concept de plus en plus galvaudé dans les sciences sociales : sa présence croissante dans les manifestations scientifiques et dans le champ éditorial l’associe souvent aux pratiques de résistance des dominés\, à la subversion des… @plus_info https://calenda-formation.labocleo.org/309353
LOCATION:Paris
END:VEVENT
BEGIN:VEVENT
DTSTART;VALUE=DATE:20150924
DTEND;VALUE=DATE:20150925
UID:309353-20150924@calenda.revues.org
SUMMARY:Théories et pratiques de l'émancipation : regards croisés (2015)
URL:https://calenda-formation.labocleo.org/309353
DESCRIPTION:L’émancipation est un concept de plus en plus galvaudé dans les sciences sociales : sa présence croissante dans les manifestations scientifiques et dans le champ éditorial l’associe souvent aux pratiques de résistance des dominés\, à la subversion des… @plus_info https://calenda-formation.labocleo.org/309353
LOCATION:Paris
END:VEVENT
BEGIN:VEVENT
DTSTART;VALUE=DATE:20151015
DTEND;VALUE=DATE:20151016
UID:309353-20151015@calenda.revues.org
SUMMARY:Théories et pratiques de l'émancipation : regards croisés (2015)
URL:https://calenda-formation.labocleo.org/309353
DESCRIPTION:L’émancipation est un concept de plus en plus galvaudé dans les sciences sociales : sa présence croissante dans les manifestations scientifiques et dans le champ éditorial l’associe souvent aux pratiques de résistance des dominés\, à la subversion des… @plus_info https://calenda-formation.labocleo.org/309353
LOCATION:Paris
END:VEVENT
BEGIN:VEVENT
DTSTART;VALUE=DATE:20151112
DTEND;VALUE=DATE:20151113
UID:309353-20151112@calenda.revues.org
SUMMARY:Théories et pratiques de l'émancipation : regards croisés (2015)
URL:https://calenda-formation.labocleo.org/309353
DESCRIPTION:L’émancipation est un concept de plus en plus galvaudé dans les sciences sociales : sa présence croissante dans les manifestations scientifiques et dans le champ éditorial l’associe souvent aux pratiques de résistance des dominés\, à la subversion des… @plus_info https://calenda-formation.labocleo.org/309353
LOCATION:Paris
END:VEVENT
BEGIN:VEVENT
DTSTART;VALUE=DATE:20151217
DTEND;VALUE=DATE:20151218
UID:309353-20151217@calenda.revues.org
SUMMARY:Théories et pratiques de l'émancipation : regards croisés (2015)
URL:https://calenda-formation.labocleo.org/309353
DESCRIPTION:L’émancipation est un concept de plus en plus galvaudé dans les sciences sociales : sa présence croissante dans les manifestations scientifiques et dans le champ éditorial l’associe souvent aux pratiques de résistance des dominés\, à la subversion des… @plus_info https://calenda-formation.labocleo.org/309353
LOCATION:Paris
END:VEVENT
END:VCALENDAR
