BEGIN:VCALENDAR
VERSION:2.0
PRODID:-//https://calenda-formation.labocleo.org
X-WR-CALNAME:Calenda
X-WR-TIMEZONE:Europe/Paris
CALSCALE:GREGORIAN
X-WR-CALDESC:Le calendrier des lettres et sciences humaines et sociales
METHOD:PUBLISH
BEGIN:VEVENT
DTSTART;VALUE=DATE:20150930
DTEND;VALUE=DATE:20151001
UID:310242-20150930@calenda.revues.org
SUMMARY:Le social avant la sociologie. Comment relire la pensée sociale du XIXe siècle
URL:https://calenda-formation.labocleo.org/310242
DESCRIPTION:On situe communément l’avènement de la sociologie dans les dernières années du XIXe siècle. Le cas français est particulièrement significatif\, avec la publication en 1895 des Règles de la méthode sociologique d’Émile Durkheim. À tort ou à raison\, le … Weitere Informationen https://calenda-formation.labocleo.org/310242
LOCATION:
END:VEVENT
END:VCALENDAR
