BEGIN:VCALENDAR
VERSION:2.0
PRODID:-//https://calenda-formation.labocleo.org
X-WR-CALNAME:Calenda
X-WR-TIMEZONE:Europe/Paris
CALSCALE:GREGORIAN
X-WR-CALDESC:Le calendrier des lettres et sciences humaines et sociales
METHOD:PUBLISH
BEGIN:VEVENT
DTSTART;VALUE=DATE:20150115
DTEND;VALUE=DATE:20150116
UID:310248-20150115@calenda.revues.org
SUMMARY:Ethnologie\, préhistoire et esthétique
URL:https://calenda-formation.labocleo.org/310248
DESCRIPTION:L’atelier portera sur les rapports entre l’émergence de l’ethnologie et de la préhistoire dans le champ scientifique et ses implications sur l’esthétique des sociétés contemporaines\, notamment dans le domaine de l’histoire de l’art. Seront abordés le… Weitere Informationen https://calenda-formation.labocleo.org/310248
LOCATION:Paris
END:VEVENT
END:VCALENDAR
