BEGIN:VCALENDAR
VERSION:2.0
PRODID:-//https://calenda-formation.labocleo.org
X-WR-CALNAME:Calenda
X-WR-TIMEZONE:Europe/Paris
CALSCALE:GREGORIAN
X-WR-CALDESC:The calendar for arts, humanities and social sciences
METHOD:PUBLISH
BEGIN:VEVENT
DTSTART;VALUE=DATE:20150115
DTEND;VALUE=DATE:20150116
UID:310248-20150115@calenda.revues.org
SUMMARY:Ethnology\, prehistory and aesthetics
URL:https://calenda-formation.labocleo.org/310248
DESCRIPTION:L’atelier portera sur les rapports entre l’émergence de l’ethnologie et de la préhistoire dans le champ scientifique et ses implications sur l’esthétique des sociétés contemporaines\, notamment dans le domaine de l’histoire de l’art. Seront abordés le… @plus_info https://calenda-formation.labocleo.org/310248
LOCATION:Paris
END:VEVENT
END:VCALENDAR
