BEGIN:VCALENDAR
VERSION:2.0
PRODID:-//https://calenda-formation.labocleo.org
X-WR-CALNAME:Calenda
X-WR-TIMEZONE:Europe/Paris
CALSCALE:GREGORIAN
X-WR-CALDESC:Le calendrier des lettres et sciences humaines et sociales
METHOD:PUBLISH
BEGIN:VEVENT
DTSTART;VALUE=DATE:20150131
DTEND;VALUE=DATE:20150201
UID:310352-20150131@calenda.revues.org
SUMMARY:La (dé)construction de l’Europe (1939-1945)
URL:https://calenda-formation.labocleo.org/310352
DESCRIPTION:Suite aux rencontres organisées en 2012 et en 2013\, respectivement intitulées Pour la Paix (1849-1939) et L’Europe de l’entre-deux-guerres (1919-1939)\, la IIIe Rencontre annuelle l’Europe et le Monde propose à la réflexion et à la discussion les idée… Weitere Informationen https://calenda-formation.labocleo.org/310352
LOCATION:Coimbra
END:VEVENT
END:VCALENDAR
