BEGIN:VCALENDAR
VERSION:2.0
PRODID:-//https://calenda-formation.labocleo.org
X-WR-CALNAME:Calenda
X-WR-TIMEZONE:Europe/Paris
CALSCALE:GREGORIAN
X-WR-CALDESC:Le calendrier des lettres et sciences humaines et sociales
METHOD:PUBLISH
BEGIN:VEVENT
DTSTART;VALUE=DATE:20150310
DTEND;VALUE=DATE:20150311
UID:310405-20150310@calenda.revues.org
SUMMARY:Créer. Créateurs\, créations\, créatures au Moyen Âge
URL:https://calenda-formation.labocleo.org/310405
DESCRIPTION:Questes\, association interuniversitaire de doctorants médiévistes\, organise en juin 2015 une journée d'études dont le thème est « Créer. Créateurs\, créations\, créatures au Moyen Age ». Ouverte à toutes les disciplines – histoire\, littérature\, histoir… Más informaciones https://calenda-formation.labocleo.org/310405
LOCATION:París
END:VEVENT
END:VCALENDAR
