BEGIN:VCALENDAR
VERSION:2.0
PRODID:-//https://calenda-formation.labocleo.org
X-WR-CALNAME:Calenda
X-WR-TIMEZONE:Europe/Paris
CALSCALE:GREGORIAN
X-WR-CALDESC:The calendar for arts, humanities and social sciences
METHOD:PUBLISH
BEGIN:VEVENT
DTSTART;VALUE=DATE:20150130
DTEND;VALUE=DATE:20150131
UID:311452-20150130@calenda.revues.org
SUMMARY:The "said" and the "unsaid"
URL:https://calenda-formation.labocleo.org/311452
DESCRIPTION:Le thème autour duquel se dérouleront les débats entend traiter des diverses théories de l’expression du sens et de la signification en langue et en discours\, ainsi que les problèmes de traduction qui peuvent intervenir dans le passage d’une langue s… @plus_info https://calenda-formation.labocleo.org/311452
LOCATION:Bucharest
END:VEVENT
END:VCALENDAR
