BEGIN:VCALENDAR
VERSION:2.0
PRODID:-//https://calenda-formation.labocleo.org
X-WR-CALNAME:Calenda
X-WR-TIMEZONE:Europe/Paris
CALSCALE:GREGORIAN
X-WR-CALDESC:Le calendrier des lettres et sciences humaines et sociales
METHOD:PUBLISH
BEGIN:VEVENT
DTSTART;VALUE=DATE:20141201
DTEND;VALUE=DATE:20141202
UID:311665-20141201@calenda.revues.org
SUMMARY:Medicine Anthropology Theory
URL:https://calenda-formation.labocleo.org/311665
DESCRIPTION:MAT seeks to rethink medicine\, medicines\, and medical systems in local and global contexts\, within the broad fields of medical anthropology\, science and technology studies (STS)\, and global health. In line with our commitment to open access\, accepted… Weitere Informationen https://calenda-formation.labocleo.org/311665
LOCATION:Amsterdam\, Paris
END:VEVENT
END:VCALENDAR
