BEGIN:VCALENDAR
VERSION:2.0
PRODID:-//https://calenda-formation.labocleo.org
X-WR-CALNAME:Calenda
X-WR-TIMEZONE:Europe/Paris
CALSCALE:GREGORIAN
X-WR-CALDESC:The calendar for arts, humanities and social sciences
METHOD:PUBLISH
BEGIN:VEVENT
DTSTART;VALUE=DATE:20150124
DTEND;VALUE=DATE:20150125
UID:311784-20150124@calenda.revues.org
SUMMARY:20th century deposits. Museum policy and the circulation of works
URL:https://calenda-formation.labocleo.org/311784
DESCRIPTION:Alors que 2014 marque la fin du premier récolement décennal des collections des musées de France\, cette journée-débat s’interrogera notamment sur le rôle qu’ont pu jouer les dépôts des collections nationales dans la politique muséale et dans l’histoi… @plus_info https://calenda-formation.labocleo.org/311784
LOCATION:Paris
END:VEVENT
END:VCALENDAR
