BEGIN:VCALENDAR
VERSION:2.0
PRODID:-//https://calenda-formation.labocleo.org
X-WR-CALNAME:Calenda
X-WR-TIMEZONE:Europe/Paris
CALSCALE:GREGORIAN
X-WR-CALDESC:O calendário de letras e de ciências sociais e humanas
METHOD:PUBLISH
BEGIN:VEVENT
DTSTART;VALUE=DATE:20150106
DTEND;VALUE=DATE:20150107
UID:312170-20150106@calenda.revues.org
SUMMARY:Recrutement d'un chargé de recherches (CR1) en mathématiques pour les sciences humaines et sociales
URL:https://calenda-formation.labocleo.org/312170
DESCRIPTION:Le CNRS affiche cette année un poste de chargé de recherche première classe sur l’analyse\, la modélisation\, la collecte\, la visualisation et le traitement des données sociales. Ce poste est ouvert en section n°41 (mathématiques) mais affecté à une un… @plus_info https://calenda-formation.labocleo.org/312170
LOCATION:Lyon
END:VEVENT
END:VCALENDAR
